BEGIN:VCALENDAR
VERSION:2.0
PRODID:-//eventon.com NONSGML v1.0//EN
CALSCALE:GREGORIAN
METHOD:PUBLISH
BEGIN:VEVENT
UID:69e74e39c4f56
DTSTAMP:20260421T101521Z
DTSTART:20270219T170000Z
DTEND:20270221T123000Z
LOCATION:Kloster Kappel Kappelerhof 5 CH-8926 Kappel am Albis
SUMMARY:Naturjodeln im Kloster Kappel
DESCRIPTION:Gejodelt wird rund um den Globus\,  nicht nur im Alpenraum. In 
 allen Kulturen lassen sich Spuren dieser archaischen Gesangsform finden. In
 sbesondere wenn Tiere gerufen werden sollen oder die Stimme über weite Dis
 tanzen gehört werden muss. Dieses sehnsuchtsvolle Rufen\,  im Wechsel mit 
 der weichen\,  zarten Kopfstimme\,  bringt den ganzen Körper in[..]\nhttps
 ://serendipia.ch/events/naturjodeln-im-kloster-kappel/
URL:https://serendipia.ch/events/naturjodeln-im-kloster-kappel/
END:VEVENT
END:VCALENDAR